BEGIN:VCALENDAR
VERSION:2.0
PRODID:-//Vetenskapskarnevalen //NONSGML Events //EN
CALSCALE:GREGORIAN
X-WR-CALNAME:Vetenskapskarnevalen
BEGIN:VEVENT
CREATED:20210914T092403Z
UID:1709
DTEND;VALUE=DATE:19700101T030000Z
DTSTART;VALUE=DATE:20260423T122419Z
DTSTAMP:20260423T092419Z
LOCATION:
DESCRIPTION:
SUMMARY:Ahlbäck, Anders
ORGANIZER:Vetenskapskarnevalen
URL;VALUE=URI:https://vetenskapskarnevalen.fi/fi/medverkare/ahlback-anders/
TRANSP:OPAQUE
BEGIN:VALARM
ACTION:DISPLAY
TRIGGER;VALUE=DATE-TIME:19700101T030000Z
DESCRIPTION:Reminder for Ahlbäck\, Anders
END:VALARM
END:VEVENT
END:VCALENDAR
	