BEGIN:VCALENDAR
VERSION:2.0
PRODID:-//Vetenskapskarnevalen //NONSGML Events //EN
CALSCALE:GREGORIAN
X-WR-CALNAME:Vetenskapskarnevalen
BEGIN:VEVENT
CREATED:20210914T092708Z
UID:1713
DTEND;VALUE=DATE:19700101T030000Z
DTSTART;VALUE=DATE:20260423T121902Z
DTSTAMP:20260423T091902Z
LOCATION:
DESCRIPTION:
SUMMARY:Ahlvik-Harju, Carolin
ORGANIZER:Vetenskapskarnevalen
URL;VALUE=URI:https://vetenskapskarnevalen.fi/fi/medverkare/ahlvik-harju-carolin/
TRANSP:OPAQUE
BEGIN:VALARM
ACTION:DISPLAY
TRIGGER;VALUE=DATE-TIME:19700101T030000Z
DESCRIPTION:Reminder for Ahlvik-Harju\, Carolin
END:VALARM
END:VEVENT
END:VCALENDAR
	