BEGIN:VCALENDAR
VERSION:2.0
PRODID:-//Vetenskapskarnevalen //NONSGML Events //EN
CALSCALE:GREGORIAN
X-WR-CALNAME:Vetenskapskarnevalen
BEGIN:VEVENT
CREATED:20210914T092924Z
UID:1716
DTEND;VALUE=DATE:19700101T030000Z
DTSTART;VALUE=DATE:20260423T122338Z
DTSTAMP:20260423T092338Z
LOCATION:
DESCRIPTION:
SUMMARY:Alander, Jarmo
ORGANIZER:Vetenskapskarnevalen
URL;VALUE=URI:https://vetenskapskarnevalen.fi/fi/medverkare/alander-jarmo/
TRANSP:OPAQUE
BEGIN:VALARM
ACTION:DISPLAY
TRIGGER;VALUE=DATE-TIME:19700101T030000Z
DESCRIPTION:Reminder for Alander\, Jarmo
END:VALARM
END:VEVENT
END:VCALENDAR
	