BEGIN:VCALENDAR
VERSION:2.0
PRODID:-//Vetenskapskarnevalen //NONSGML Events //EN
CALSCALE:GREGORIAN
X-WR-CALNAME:Vetenskapskarnevalen
BEGIN:VEVENT
CREATED:20210914T094207Z
UID:1747
DTEND;VALUE=DATE:19700101T030000Z
DTSTART;VALUE=DATE:20260423T102643Z
DTSTAMP:20260423T072643Z
LOCATION:
DESCRIPTION:
SUMMARY:Björk, Peter
ORGANIZER:Vetenskapskarnevalen
URL;VALUE=URI:https://vetenskapskarnevalen.fi/fi/medverkare/bjork-peter/
TRANSP:OPAQUE
BEGIN:VALARM
ACTION:DISPLAY
TRIGGER;VALUE=DATE-TIME:19700101T030000Z
DESCRIPTION:Reminder for Björk\, Peter
END:VALARM
END:VEVENT
END:VCALENDAR
	