BEGIN:VCALENDAR
VERSION:2.0
PRODID:-//Vetenskapskarnevalen //NONSGML Events //EN
CALSCALE:GREGORIAN
X-WR-CALNAME:Vetenskapskarnevalen
BEGIN:VEVENT
CREATED:20210914T095406Z
UID:1785
DTEND;VALUE=DATE:19700101T030000Z
DTSTART;VALUE=DATE:20260423T085133Z
DTSTAMP:20260423T055133Z
LOCATION:
DESCRIPTION:
SUMMARY:Ehrnström-Fuentes, Maria
ORGANIZER:Vetenskapskarnevalen
URL;VALUE=URI:https://vetenskapskarnevalen.fi/fi/medverkare/ehrnstrom-fuentes-maria/
TRANSP:OPAQUE
BEGIN:VALARM
ACTION:DISPLAY
TRIGGER;VALUE=DATE-TIME:19700101T030000Z
DESCRIPTION:Reminder for Ehrnström-Fuentes\, Maria
END:VALARM
END:VEVENT
END:VCALENDAR
	