BEGIN:VCALENDAR
VERSION:2.0
PRODID:-//Vetenskapskarnevalen //NONSGML Events //EN
CALSCALE:GREGORIAN
X-WR-CALNAME:Vetenskapskarnevalen
BEGIN:VEVENT
CREATED:20210914T100943Z
UID:1824
DTEND;VALUE=DATE:19700101T030000Z
DTSTART;VALUE=DATE:20260423T070809Z
DTSTAMP:20260423T040809Z
LOCATION:
DESCRIPTION:
SUMMARY:Haga, Jesper
ORGANIZER:Vetenskapskarnevalen
URL;VALUE=URI:https://vetenskapskarnevalen.fi/fi/medverkare/haga-jesper/
TRANSP:OPAQUE
BEGIN:VALARM
ACTION:DISPLAY
TRIGGER;VALUE=DATE-TIME:19700101T030000Z
DESCRIPTION:Reminder for Haga\, Jesper
END:VALARM
END:VEVENT
END:VCALENDAR
	