BEGIN:VCALENDAR
VERSION:2.0
PRODID:-//Vetenskapskarnevalen //NONSGML Events //EN
CALSCALE:GREGORIAN
X-WR-CALNAME:Vetenskapskarnevalen
BEGIN:VEVENT
CREATED:20210914T101319Z
UID:1832
DTEND;VALUE=DATE:19700101T030000Z
DTSTART;VALUE=DATE:20260423T070700Z
DTSTAMP:20260423T040700Z
LOCATION:
DESCRIPTION:
SUMMARY:Henriksson, Blanka
ORGANIZER:Vetenskapskarnevalen
URL;VALUE=URI:https://vetenskapskarnevalen.fi/fi/medverkare/henriksson-blanka/
TRANSP:OPAQUE
BEGIN:VALARM
ACTION:DISPLAY
TRIGGER;VALUE=DATE-TIME:19700101T030000Z
DESCRIPTION:Reminder for Henriksson\, Blanka
END:VALARM
END:VEVENT
END:VCALENDAR
	