BEGIN:VCALENDAR
VERSION:2.0
PRODID:-//Vetenskapskarnevalen //NONSGML Events //EN
CALSCALE:GREGORIAN
X-WR-CALNAME:Vetenskapskarnevalen
BEGIN:VEVENT
CREATED:20210914T101510Z
UID:1835
DTEND;VALUE=DATE:19700101T030000Z
DTSTART;VALUE=DATE:20260423T054459Z
DTSTAMP:20260423T024459Z
LOCATION:
DESCRIPTION:
SUMMARY:Hiltunen, Erkki
ORGANIZER:Vetenskapskarnevalen
URL;VALUE=URI:https://vetenskapskarnevalen.fi/fi/medverkare/hiltunen-erkki/
TRANSP:OPAQUE
BEGIN:VALARM
ACTION:DISPLAY
TRIGGER;VALUE=DATE-TIME:19700101T030000Z
DESCRIPTION:Reminder for Hiltunen\, Erkki
END:VALARM
END:VEVENT
END:VCALENDAR
	