BEGIN:VCALENDAR
VERSION:2.0
PRODID:-//Vetenskapskarnevalen //NONSGML Events //EN
CALSCALE:GREGORIAN
X-WR-CALNAME:Vetenskapskarnevalen
BEGIN:VEVENT
CREATED:20210914T101623Z
UID:1837
DTEND;VALUE=DATE:19700101T030000Z
DTSTART;VALUE=DATE:20260423T054553Z
DTSTAMP:20260423T024553Z
LOCATION:
DESCRIPTION:
SUMMARY:Hiltunen, Kasper
ORGANIZER:Vetenskapskarnevalen
URL;VALUE=URI:https://vetenskapskarnevalen.fi/fi/medverkare/hiltunen-kasper/
TRANSP:OPAQUE
BEGIN:VALARM
ACTION:DISPLAY
TRIGGER;VALUE=DATE-TIME:19700101T030000Z
DESCRIPTION:Reminder for Hiltunen\, Kasper
END:VALARM
END:VEVENT
END:VCALENDAR
	