BEGIN:VCALENDAR
VERSION:2.0
PRODID:-//Vetenskapskarnevalen //NONSGML Events //EN
CALSCALE:GREGORIAN
X-WR-CALNAME:Vetenskapskarnevalen
BEGIN:VEVENT
CREATED:20210914T102104Z
UID:1845
DTEND;VALUE=DATE:19700101T030000Z
DTSTART;VALUE=DATE:20260423T053818Z
DTSTAMP:20260423T023818Z
LOCATION:
DESCRIPTION:
SUMMARY:Höglund, Heidi
ORGANIZER:Vetenskapskarnevalen
URL;VALUE=URI:https://vetenskapskarnevalen.fi/fi/medverkare/hoglund-heidi/
TRANSP:OPAQUE
BEGIN:VALARM
ACTION:DISPLAY
TRIGGER;VALUE=DATE-TIME:19700101T030000Z
DESCRIPTION:Reminder for Höglund\, Heidi
END:VALARM
END:VEVENT
END:VCALENDAR
	