BEGIN:VCALENDAR
VERSION:2.0
PRODID:-//Vetenskapskarnevalen //NONSGML Events //EN
CALSCALE:GREGORIAN
X-WR-CALNAME:Vetenskapskarnevalen
BEGIN:VEVENT
CREATED:20210914T102506Z
UID:1847
DTEND;VALUE=DATE:19700101T030000Z
DTSTART;VALUE=DATE:20260423T053909Z
DTSTAMP:20260423T023909Z
LOCATION:
DESCRIPTION:
SUMMARY:Jaskari, Minna-Maarit
ORGANIZER:Vetenskapskarnevalen
URL;VALUE=URI:https://vetenskapskarnevalen.fi/fi/medverkare/jaskari-minna-maarit/
TRANSP:OPAQUE
BEGIN:VALARM
ACTION:DISPLAY
TRIGGER;VALUE=DATE-TIME:19700101T030000Z
DESCRIPTION:Reminder for Jaskari\, Minna-Maarit
END:VALARM
END:VEVENT
END:VCALENDAR
	