BEGIN:VCALENDAR
VERSION:2.0
PRODID:-//Vetenskapskarnevalen //NONSGML Events //EN
CALSCALE:GREGORIAN
X-WR-CALNAME:Vetenskapskarnevalen
BEGIN:VEVENT
CREATED:20210914T103058Z
UID:1852
DTEND;VALUE=DATE:19700101T030000Z
DTSTART;VALUE=DATE:20260423T040417Z
DTSTAMP:20260423T010417Z
LOCATION:
DESCRIPTION:
SUMMARY:Kahra, Sade
ORGANIZER:Vetenskapskarnevalen
URL;VALUE=URI:https://vetenskapskarnevalen.fi/fi/medverkare/kahra-sade/
TRANSP:OPAQUE
BEGIN:VALARM
ACTION:DISPLAY
TRIGGER;VALUE=DATE-TIME:19700101T030000Z
DESCRIPTION:Reminder for Kahra\, Sade
END:VALARM
END:VEVENT
END:VCALENDAR
	