BEGIN:VCALENDAR
VERSION:2.0
PRODID:-//Vetenskapskarnevalen //NONSGML Events //EN
CALSCALE:GREGORIAN
X-WR-CALNAME:Vetenskapskarnevalen
BEGIN:VEVENT
CREATED:20210914T103231Z
UID:1853
DTEND;VALUE=DATE:19700101T030000Z
DTSTART;VALUE=DATE:20260423T040945Z
DTSTAMP:20260423T010945Z
LOCATION:
DESCRIPTION:
SUMMARY:Kaihovirta, Matias
ORGANIZER:Vetenskapskarnevalen
URL;VALUE=URI:https://vetenskapskarnevalen.fi/fi/medverkare/kaihovirta-mathias/
TRANSP:OPAQUE
BEGIN:VALARM
ACTION:DISPLAY
TRIGGER;VALUE=DATE-TIME:19700101T030000Z
DESCRIPTION:Reminder for Kaihovirta\, Matias
END:VALARM
END:VEVENT
END:VCALENDAR
	