BEGIN:VCALENDAR
VERSION:2.0
PRODID:-//Vetenskapskarnevalen //NONSGML Events //EN
CALSCALE:GREGORIAN
X-WR-CALNAME:Vetenskapskarnevalen
BEGIN:VEVENT
CREATED:20210914T103331Z
UID:1855
DTEND;VALUE=DATE:19700101T030000Z
DTSTART;VALUE=DATE:20260423T041143Z
DTSTAMP:20260423T011143Z
LOCATION:
DESCRIPTION:
SUMMARY:Kaisanlahti, Timo
ORGANIZER:Vetenskapskarnevalen
URL;VALUE=URI:https://vetenskapskarnevalen.fi/fi/medverkare/1855/
TRANSP:OPAQUE
BEGIN:VALARM
ACTION:DISPLAY
TRIGGER;VALUE=DATE-TIME:19700101T030000Z
DESCRIPTION:Reminder for Kaisanlahti\, Timo
END:VALARM
END:VEVENT
END:VCALENDAR
	