BEGIN:VCALENDAR
VERSION:2.0
PRODID:-//Vetenskapskarnevalen //NONSGML Events //EN
CALSCALE:GREGORIAN
X-WR-CALNAME:Vetenskapskarnevalen
BEGIN:VEVENT
CREATED:20210914T103447Z
UID:1857
DTEND;VALUE=DATE:19700101T030000Z
DTSTART;VALUE=DATE:20260423T041118Z
DTSTAMP:20260423T011118Z
LOCATION:
DESCRIPTION:
SUMMARY:Kalmi, Panu
ORGANIZER:Vetenskapskarnevalen
URL;VALUE=URI:https://vetenskapskarnevalen.fi/fi/medverkare/1857/
TRANSP:OPAQUE
BEGIN:VALARM
ACTION:DISPLAY
TRIGGER;VALUE=DATE-TIME:19700101T030000Z
DESCRIPTION:Reminder for Kalmi\, Panu
END:VALARM
END:VEVENT
END:VCALENDAR
	