BEGIN:VCALENDAR
VERSION:2.0
PRODID:-//Vetenskapskarnevalen //NONSGML Events //EN
CALSCALE:GREGORIAN
X-WR-CALNAME:Vetenskapskarnevalen
BEGIN:VEVENT
CREATED:20210914T104738Z
UID:1868
DTEND;VALUE=DATE:19700101T030000Z
DTSTART;VALUE=DATE:20260423T040731Z
DTSTAMP:20260423T010731Z
LOCATION:
DESCRIPTION:
SUMMARY:Kekkonen, Jukka
ORGANIZER:Vetenskapskarnevalen
URL;VALUE=URI:https://vetenskapskarnevalen.fi/fi/medverkare/kekkonen-jukka/
TRANSP:OPAQUE
BEGIN:VALARM
ACTION:DISPLAY
TRIGGER;VALUE=DATE-TIME:19700101T030000Z
DESCRIPTION:Reminder for Kekkonen\, Jukka
END:VALARM
END:VEVENT
END:VCALENDAR
	