BEGIN:VCALENDAR
VERSION:2.0
PRODID:-//Vetenskapskarnevalen //NONSGML Events //EN
CALSCALE:GREGORIAN
X-WR-CALNAME:Vetenskapskarnevalen
BEGIN:VEVENT
CREATED:20210914T105222Z
UID:1875
DTEND;VALUE=DATE:19700101T030000Z
DTSTART;VALUE=DATE:20260423T022444Z
DTSTAMP:20260422T232444Z
LOCATION:
DESCRIPTION:
SUMMARY:Koskela, Merja
ORGANIZER:Vetenskapskarnevalen
URL;VALUE=URI:https://vetenskapskarnevalen.fi/fi/medverkare/koskela-merja/
TRANSP:OPAQUE
BEGIN:VALARM
ACTION:DISPLAY
TRIGGER;VALUE=DATE-TIME:19700101T030000Z
DESCRIPTION:Reminder for Koskela\, Merja
END:VALARM
END:VEVENT
END:VCALENDAR
	