BEGIN:VCALENDAR
VERSION:2.0
PRODID:-//Vetenskapskarnevalen //NONSGML Events //EN
CALSCALE:GREGORIAN
X-WR-CALNAME:Vetenskapskarnevalen
BEGIN:VEVENT
CREATED:20210914T110024Z
UID:1885
DTEND;VALUE=DATE:19700101T030000Z
DTSTART;VALUE=DATE:20260423T023101Z
DTSTAMP:20260422T233101Z
LOCATION:
DESCRIPTION:
SUMMARY:Leipämaa-Leskinen, Hanna
ORGANIZER:Vetenskapskarnevalen
URL;VALUE=URI:https://vetenskapskarnevalen.fi/fi/medverkare/leipamaa-leskinen-hanna/
TRANSP:OPAQUE
BEGIN:VALARM
ACTION:DISPLAY
TRIGGER;VALUE=DATE-TIME:19700101T030000Z
DESCRIPTION:Reminder for Leipämaa-Leskinen\, Hanna
END:VALARM
END:VEVENT
END:VCALENDAR
	