BEGIN:VCALENDAR
VERSION:2.0
PRODID:-//Vetenskapskarnevalen //NONSGML Events //EN
CALSCALE:GREGORIAN
X-WR-CALNAME:Vetenskapskarnevalen
BEGIN:VEVENT
CREATED:20210914T110510Z
UID:1893
DTEND;VALUE=DATE:19700101T030000Z
DTSTART;VALUE=DATE:20260423T023109Z
DTSTAMP:20260422T233109Z
LOCATION:
DESCRIPTION:
SUMMARY:Lindell, Marina
ORGANIZER:Vetenskapskarnevalen
URL;VALUE=URI:https://vetenskapskarnevalen.fi/fi/medverkare/lindell-marina/
TRANSP:OPAQUE
BEGIN:VALARM
ACTION:DISPLAY
TRIGGER;VALUE=DATE-TIME:19700101T030000Z
DESCRIPTION:Reminder for Lindell\, Marina
END:VALARM
END:VEVENT
END:VCALENDAR
	