BEGIN:VCALENDAR
VERSION:2.0
PRODID:-//Vetenskapskarnevalen //NONSGML Events //EN
CALSCALE:GREGORIAN
X-WR-CALNAME:Vetenskapskarnevalen
BEGIN:VEVENT
CREATED:20210914T111038Z
UID:1902
DTEND;VALUE=DATE:19700101T030000Z
DTSTART;VALUE=DATE:20260423T003538Z
DTSTAMP:20260422T213538Z
LOCATION:
DESCRIPTION:
SUMMARY:Lindqvist, Yrsa
ORGANIZER:Vetenskapskarnevalen
URL;VALUE=URI:https://vetenskapskarnevalen.fi/fi/medverkare/lindqvist-yrsa/
TRANSP:OPAQUE
BEGIN:VALARM
ACTION:DISPLAY
TRIGGER;VALUE=DATE-TIME:19700101T030000Z
DESCRIPTION:Reminder for Lindqvist\, Yrsa
END:VALARM
END:VEVENT
END:VCALENDAR
	