BEGIN:VCALENDAR
VERSION:2.0
PRODID:-//Vetenskapskarnevalen //NONSGML Events //EN
CALSCALE:GREGORIAN
X-WR-CALNAME:Vetenskapskarnevalen
BEGIN:VEVENT
CREATED:20210914T111332Z
UID:1907
DTEND;VALUE=DATE:19700101T030000Z
DTSTART;VALUE=DATE:20260423T002933Z
DTSTAMP:20260422T212933Z
LOCATION:
DESCRIPTION:
SUMMARY:Majors, Joachim
ORGANIZER:Vetenskapskarnevalen
URL;VALUE=URI:https://vetenskapskarnevalen.fi/fi/medverkare/majors-joachim/
TRANSP:OPAQUE
BEGIN:VALARM
ACTION:DISPLAY
TRIGGER;VALUE=DATE-TIME:19700101T030000Z
DESCRIPTION:Reminder for Majors\, Joachim
END:VALARM
END:VEVENT
END:VCALENDAR
	