BEGIN:VCALENDAR
VERSION:2.0
PRODID:-//Vetenskapskarnevalen //NONSGML Events //EN
CALSCALE:GREGORIAN
X-WR-CALNAME:Vetenskapskarnevalen
BEGIN:VEVENT
CREATED:20210914T111655Z
UID:1916
DTEND;VALUE=DATE:19700101T030000Z
DTSTART;VALUE=DATE:20260423T003021Z
DTSTAMP:20260422T213021Z
LOCATION:
DESCRIPTION:
SUMMARY:Mäkelä, Maarit
ORGANIZER:Vetenskapskarnevalen
URL;VALUE=URI:https://vetenskapskarnevalen.fi/fi/medverkare/makela-maarit/
TRANSP:OPAQUE
BEGIN:VALARM
ACTION:DISPLAY
TRIGGER;VALUE=DATE-TIME:19700101T030000Z
DESCRIPTION:Reminder for Mäkelä\, Maarit
END:VALARM
END:VEVENT
END:VCALENDAR
	