BEGIN:VCALENDAR
VERSION:2.0
PRODID:-//Vetenskapskarnevalen //NONSGML Events //EN
CALSCALE:GREGORIAN
X-WR-CALNAME:Vetenskapskarnevalen
BEGIN:VEVENT
CREATED:20210914T111830Z
UID:1920
DTEND;VALUE=DATE:19700101T030000Z
DTSTART;VALUE=DATE:20260422T223323Z
DTSTAMP:20260422T193323Z
LOCATION:
DESCRIPTION:
SUMMARY:Namdar, Christine
ORGANIZER:Vetenskapskarnevalen
URL;VALUE=URI:https://vetenskapskarnevalen.fi/fi/medverkare/namdar-christine/
TRANSP:OPAQUE
BEGIN:VALARM
ACTION:DISPLAY
TRIGGER;VALUE=DATE-TIME:19700101T030000Z
DESCRIPTION:Reminder for Namdar\, Christine
END:VALARM
END:VEVENT
END:VCALENDAR
	