BEGIN:VCALENDAR
VERSION:2.0
PRODID:-//Vetenskapskarnevalen //NONSGML Events //EN
CALSCALE:GREGORIAN
X-WR-CALNAME:Vetenskapskarnevalen
BEGIN:VEVENT
CREATED:20210914T112310Z
UID:1928
DTEND;VALUE=DATE:19700101T030000Z
DTSTART;VALUE=DATE:20260422T223643Z
DTSTAMP:20260422T193643Z
LOCATION:
DESCRIPTION:
SUMMARY:Norrgård, Kenneth
ORGANIZER:Vetenskapskarnevalen
URL;VALUE=URI:https://vetenskapskarnevalen.fi/fi/medverkare/norrgard-kenneth/
TRANSP:OPAQUE
BEGIN:VALARM
ACTION:DISPLAY
TRIGGER;VALUE=DATE-TIME:19700101T030000Z
DESCRIPTION:Reminder for Norrgård\, Kenneth
END:VALARM
END:VEVENT
END:VCALENDAR
	