BEGIN:VCALENDAR
VERSION:2.0
PRODID:-//Vetenskapskarnevalen //NONSGML Events //EN
CALSCALE:GREGORIAN
X-WR-CALNAME:Vetenskapskarnevalen
BEGIN:VEVENT
CREATED:20210914T113347Z
UID:1947
DTEND;VALUE=DATE:19700101T030000Z
DTSTART;VALUE=DATE:20260422T204432Z
DTSTAMP:20260422T174432Z
LOCATION:
DESCRIPTION:
SUMMARY:Palviainen, Åsa
ORGANIZER:Vetenskapskarnevalen
URL;VALUE=URI:https://vetenskapskarnevalen.fi/fi/medverkare/palviainen-asa/
TRANSP:OPAQUE
BEGIN:VALARM
ACTION:DISPLAY
TRIGGER;VALUE=DATE-TIME:19700101T030000Z
DESCRIPTION:Reminder for Palviainen\, Åsa
END:VALARM
END:VEVENT
END:VCALENDAR
	