BEGIN:VCALENDAR
VERSION:2.0
PRODID:-//Vetenskapskarnevalen //NONSGML Events //EN
CALSCALE:GREGORIAN
X-WR-CALNAME:Vetenskapskarnevalen
BEGIN:VEVENT
CREATED:20210914T113706Z
UID:1954
DTEND;VALUE=DATE:19700101T030000Z
DTSTART;VALUE=DATE:20260422T204923Z
DTSTAMP:20260422T174923Z
LOCATION:
DESCRIPTION:
SUMMARY:Porko-Hudd, Mia
ORGANIZER:Vetenskapskarnevalen
URL;VALUE=URI:https://vetenskapskarnevalen.fi/fi/medverkare/porko-hudd-mia/
TRANSP:OPAQUE
BEGIN:VALARM
ACTION:DISPLAY
TRIGGER;VALUE=DATE-TIME:19700101T030000Z
DESCRIPTION:Reminder for Porko-Hudd\, Mia
END:VALARM
END:VEVENT
END:VCALENDAR
	