BEGIN:VCALENDAR
VERSION:2.0
PRODID:-//Vetenskapskarnevalen //NONSGML Events //EN
CALSCALE:GREGORIAN
X-WR-CALNAME:Vetenskapskarnevalen
BEGIN:VEVENT
CREATED:20210914T114418Z
UID:1969
DTEND;VALUE=DATE:19700101T030000Z
DTSTART;VALUE=DATE:20260422T190404Z
DTSTAMP:20260422T160404Z
LOCATION:
DESCRIPTION:
SUMMARY:Rusk, Fredrik
ORGANIZER:Vetenskapskarnevalen
URL;VALUE=URI:https://vetenskapskarnevalen.fi/fi/medverkare/rusk-fredrik/
TRANSP:OPAQUE
BEGIN:VALARM
ACTION:DISPLAY
TRIGGER;VALUE=DATE-TIME:19700101T030000Z
DESCRIPTION:Reminder for Rusk\, Fredrik
END:VALARM
END:VEVENT
END:VCALENDAR
	