BEGIN:VCALENDAR
VERSION:2.0
PRODID:-//Vetenskapskarnevalen //NONSGML Events //EN
CALSCALE:GREGORIAN
X-WR-CALNAME:Vetenskapskarnevalen
BEGIN:VEVENT
CREATED:20210914T114839Z
UID:1978
DTEND;VALUE=DATE:19700101T030000Z
DTSTART;VALUE=DATE:20260422T190614Z
DTSTAMP:20260422T160614Z
LOCATION:
DESCRIPTION:
SUMMARY:Shamsuzzoha, Ahm
ORGANIZER:Vetenskapskarnevalen
URL;VALUE=URI:https://vetenskapskarnevalen.fi/fi/medverkare/shamsuzzoha-ahm/
TRANSP:OPAQUE
BEGIN:VALARM
ACTION:DISPLAY
TRIGGER;VALUE=DATE-TIME:19700101T030000Z
DESCRIPTION:Reminder for Shamsuzzoha\, Ahm
END:VALARM
END:VEVENT
END:VCALENDAR
	