BEGIN:VCALENDAR
VERSION:2.0
PRODID:-//Vetenskapskarnevalen //NONSGML Events //EN
CALSCALE:GREGORIAN
X-WR-CALNAME:Vetenskapskarnevalen
BEGIN:VEVENT
CREATED:20210914T115102Z
UID:1982
DTEND;VALUE=DATE:19700101T030000Z
DTSTART;VALUE=DATE:20260422T172035Z
DTSTAMP:20260422T142035Z
LOCATION:
DESCRIPTION:
SUMMARY:Sjöblom, Stefan
ORGANIZER:Vetenskapskarnevalen
URL;VALUE=URI:https://vetenskapskarnevalen.fi/fi/medverkare/sjoholm-stefan/
TRANSP:OPAQUE
BEGIN:VALARM
ACTION:DISPLAY
TRIGGER;VALUE=DATE-TIME:19700101T030000Z
DESCRIPTION:Reminder for Sjöblom\, Stefan
END:VALARM
END:VEVENT
END:VCALENDAR
	