BEGIN:VCALENDAR
VERSION:2.0
PRODID:-//Vetenskapskarnevalen //NONSGML Events //EN
CALSCALE:GREGORIAN
X-WR-CALNAME:Vetenskapskarnevalen
BEGIN:VEVENT
CREATED:20210914T115155Z
UID:1984
DTEND;VALUE=DATE:19700101T030000Z
DTSTART;VALUE=DATE:20260422T172642Z
DTSTAMP:20260422T142642Z
LOCATION:
DESCRIPTION:
SUMMARY:Smeds-Nylund, Ann-Sofie
ORGANIZER:Vetenskapskarnevalen
URL;VALUE=URI:https://vetenskapskarnevalen.fi/fi/medverkare/smeds-nylund-ann-sofie/
TRANSP:OPAQUE
BEGIN:VALARM
ACTION:DISPLAY
TRIGGER;VALUE=DATE-TIME:19700101T030000Z
DESCRIPTION:Reminder for Smeds-Nylund\, Ann-Sofie
END:VALARM
END:VEVENT
END:VCALENDAR
	