BEGIN:VCALENDAR
VERSION:2.0
PRODID:-//Vetenskapskarnevalen //NONSGML Events //EN
CALSCALE:GREGORIAN
X-WR-CALNAME:Vetenskapskarnevalen
BEGIN:VEVENT
CREATED:20210914T115426Z
UID:1989
DTEND;VALUE=DATE:19700101T030000Z
DTSTART;VALUE=DATE:20260422T171947Z
DTSTAMP:20260422T141947Z
LOCATION:
DESCRIPTION:
SUMMARY:Stolpe, Claus
ORGANIZER:Vetenskapskarnevalen
URL;VALUE=URI:https://vetenskapskarnevalen.fi/fi/medverkare/stolpe-claus/
TRANSP:OPAQUE
BEGIN:VALARM
ACTION:DISPLAY
TRIGGER;VALUE=DATE-TIME:19700101T030000Z
DESCRIPTION:Reminder for Stolpe\, Claus
END:VALARM
END:VEVENT
END:VCALENDAR
	