BEGIN:VCALENDAR
VERSION:2.0
PRODID:-//Vetenskapskarnevalen //NONSGML Events //EN
CALSCALE:GREGORIAN
X-WR-CALNAME:Vetenskapskarnevalen
BEGIN:VEVENT
CREATED:20210914T115717Z
UID:1994
DTEND;VALUE=DATE:19700101T030000Z
DTSTART;VALUE=DATE:20260422T173113Z
DTSTAMP:20260422T143113Z
LOCATION:
DESCRIPTION:
SUMMARY:Ståhl, Matilda
ORGANIZER:Vetenskapskarnevalen
URL;VALUE=URI:https://vetenskapskarnevalen.fi/fi/medverkare/stahl-matilda/
TRANSP:OPAQUE
BEGIN:VALARM
ACTION:DISPLAY
TRIGGER;VALUE=DATE-TIME:19700101T030000Z
DESCRIPTION:Reminder for Ståhl\, Matilda
END:VALARM
END:VEVENT
END:VCALENDAR
	