BEGIN:VCALENDAR
VERSION:2.0
PRODID:-//Vetenskapskarnevalen //NONSGML Events //EN
CALSCALE:GREGORIAN
X-WR-CALNAME:Vetenskapskarnevalen
BEGIN:VEVENT
CREATED:20210914T120815Z
UID:2009
DTEND;VALUE=DATE:19700101T030000Z
DTSTART;VALUE=DATE:20260422T153941Z
DTSTAMP:20260422T123941Z
LOCATION:
DESCRIPTION:
SUMMARY:Syrjälä, Henna
ORGANIZER:Vetenskapskarnevalen
URL;VALUE=URI:https://vetenskapskarnevalen.fi/fi/medverkare/syrjala-henna/
TRANSP:OPAQUE
BEGIN:VALARM
ACTION:DISPLAY
TRIGGER;VALUE=DATE-TIME:19700101T030000Z
DESCRIPTION:Reminder for Syrjälä\, Henna
END:VALARM
END:VEVENT
END:VCALENDAR
	