BEGIN:VCALENDAR
VERSION:2.0
PRODID:-//Vetenskapskarnevalen //NONSGML Events //EN
CALSCALE:GREGORIAN
X-WR-CALNAME:Vetenskapskarnevalen
BEGIN:VEVENT
CREATED:20210914T121244Z
UID:2014
DTEND;VALUE=DATE:19700101T030000Z
DTSTART;VALUE=DATE:20260422T153003Z
DTSTAMP:20260422T123003Z
LOCATION:
DESCRIPTION:
SUMMARY:Tolonen, Hannele
ORGANIZER:Vetenskapskarnevalen
URL;VALUE=URI:https://vetenskapskarnevalen.fi/fi/medverkare/tolonen-hannele/
TRANSP:OPAQUE
BEGIN:VALARM
ACTION:DISPLAY
TRIGGER;VALUE=DATE-TIME:19700101T030000Z
DESCRIPTION:Reminder for Tolonen\, Hannele
END:VALARM
END:VEVENT
END:VCALENDAR
	