BEGIN:VCALENDAR
VERSION:2.0
PRODID:-//Vetenskapskarnevalen //NONSGML Events //EN
CALSCALE:GREGORIAN
X-WR-CALNAME:Vetenskapskarnevalen
BEGIN:VEVENT
CREATED:20210914T122841Z
UID:2035
DTEND;VALUE=DATE:19700101T030000Z
DTSTART;VALUE=DATE:20260420T113823Z
DTSTAMP:20260420T083823Z
LOCATION:
DESCRIPTION:
SUMMARY:Östman, Ann-Catrin
ORGANIZER:Vetenskapskarnevalen
URL;VALUE=URI:https://vetenskapskarnevalen.fi/fi/medverkare/ostman-ann-catrin/
TRANSP:OPAQUE
BEGIN:VALARM
ACTION:DISPLAY
TRIGGER;VALUE=DATE-TIME:19700101T030000Z
DESCRIPTION:Reminder for Östman\, Ann-Catrin
END:VALARM
END:VEVENT
END:VCALENDAR
	