BEGIN:VCALENDAR
VERSION:2.0
PRODID:-//Vetenskapskarnevalen //NONSGML Events //EN
CALSCALE:GREGORIAN
X-WR-CALNAME:Vetenskapskarnevalen
BEGIN:VEVENT
CREATED:20211001T133858Z
UID:2359
DTEND;VALUE=DATE:19700101T030000Z
DTSTART;VALUE=DATE:20260420T114127Z
DTSTAMP:20260420T084127Z
LOCATION:
DESCRIPTION:
SUMMARY:Makkonen, Hannu
ORGANIZER:Vetenskapskarnevalen
URL;VALUE=URI:https://vetenskapskarnevalen.fi/fi/medverkare/makkonen-hannu/
TRANSP:OPAQUE
BEGIN:VALARM
ACTION:DISPLAY
TRIGGER;VALUE=DATE-TIME:19700101T030000Z
DESCRIPTION:Reminder for Makkonen\, Hannu
END:VALARM
END:VEVENT
END:VCALENDAR
	