BEGIN:VCALENDAR
VERSION:2.0
PRODID:-//Vetenskapskarnevalen //NONSGML Events //EN
CALSCALE:GREGORIAN
X-WR-CALNAME:Vetenskapskarnevalen
BEGIN:VEVENT
CREATED:20211022T072634Z
UID:2405
DTEND;VALUE=DATE:19700101T030000Z
DTSTART;VALUE=DATE:20260420T114022Z
DTSTAMP:20260420T084022Z
LOCATION:
DESCRIPTION:
SUMMARY:Backström, Jenny
ORGANIZER:Vetenskapskarnevalen
URL;VALUE=URI:https://vetenskapskarnevalen.fi/fi/medverkare/backstrom-jenny/
TRANSP:OPAQUE
BEGIN:VALARM
ACTION:DISPLAY
TRIGGER;VALUE=DATE-TIME:19700101T030000Z
DESCRIPTION:Reminder for Backström\, Jenny
END:VALARM
END:VEVENT
END:VCALENDAR
	