BEGIN:VCALENDAR
VERSION:2.0
PRODID:-//Vetenskapskarnevalen //NONSGML Events //EN
CALSCALE:GREGORIAN
X-WR-CALNAME:Vetenskapskarnevalen
BEGIN:VEVENT
CREATED:20211101T082756Z
UID:2414
DTEND;VALUE=DATE:19700101T030000Z
DTSTART;VALUE=DATE:20260420T114007Z
DTSTAMP:20260420T084007Z
LOCATION:
DESCRIPTION:
SUMMARY:Hautala, Johanna
ORGANIZER:Vetenskapskarnevalen
URL;VALUE=URI:https://vetenskapskarnevalen.fi/fi/medverkare/hautala-johanna/
TRANSP:OPAQUE
BEGIN:VALARM
ACTION:DISPLAY
TRIGGER;VALUE=DATE-TIME:19700101T030000Z
DESCRIPTION:Reminder for Hautala\, Johanna
END:VALARM
END:VEVENT
END:VCALENDAR
	