BEGIN:VCALENDAR
VERSION:2.0
PRODID:-//Vetenskapskarnevalen //NONSGML Events //EN
CALSCALE:GREGORIAN
X-WR-CALNAME:Vetenskapskarnevalen
BEGIN:VEVENT
CREATED:20251013T050043Z
UID:5557
DTEND;VALUE=DATE:20251108T105000Z
DTSTART;VALUE=DATE:20251108T095000Z
DTSTAMP:20260420T085826Z
LOCATION:Vasa stadshus
DESCRIPTION:<span data-sheets-root="1">Firm innovativeness is often viewed from the firm's perspective. However, the Finnish Innovation Index (FII), developed at Hanken's Department of Marketing, focuses on the customer perspective of innovation. Arafat Rahman from Hanken will explore the key factors that customers consider essential for a company to be seen as innovative, and how these factors play out in industries like media streaming and fast food.</span>
SUMMARY:Customer perspective of firm innovativeness
ORGANIZER:Vetenskapskarnevalen
URL;VALUE=URI:https://vetenskapskarnevalen.fi/fi/programs/customer-perspective-of-firm-innovativeness/
TRANSP:OPAQUE
BEGIN:VALARM
ACTION:DISPLAY
TRIGGER;VALUE=DATE-TIME:20251108T105000Z
DESCRIPTION:Reminder for Customer perspective of firm innovativeness
END:VALARM
END:VEVENT
END:VCALENDAR
	