BEGIN:VCALENDAR
VERSION:2.0
PRODID:-//Vetenskapskarnevalen //NONSGML Events //EN
CALSCALE:GREGORIAN
X-WR-CALNAME:Vetenskapskarnevalen
BEGIN:VEVENT
CREATED:20251013T050040Z
UID:5558
DTEND;VALUE=DATE:20251107T143000Z
DTSTART;VALUE=DATE:20251107T133000Z
DTSTAMP:20260420T083958Z
LOCATION:Köpcentrum Rewell
DESCRIPTION:Projektet ILAAG lyfter fram hur lokala föreningar och tredje sektorn skapar möjligheter för äldre att delta aktivt i samhället. Välkommen till ett samtal med forskaren Marina Näsman (Åbo Akademi), Susanne Lagus, verksamhetsledare på Finlands Svenska Hembygdsförbund, och Susanne Skata om frivillig- och föreningslivets möjligheter och utmaningar i dagens Finland.
SUMMARY:Ti arbeit ilaag – äldre och samhällsengagemang
ORGANIZER:Vetenskapskarnevalen
URL;VALUE=URI:https://vetenskapskarnevalen.fi/fi/programs/ti-arbeit-ilaag-aldre-och-samhallsengagemang/
TRANSP:OPAQUE
BEGIN:VALARM
ACTION:DISPLAY
TRIGGER;VALUE=DATE-TIME:20251107T143000Z
DESCRIPTION:Reminder for Ti arbeit ilaag – äldre och samhällsengagemang
END:VALARM
END:VEVENT
END:VCALENDAR
	