BEGIN:VCALENDAR
VERSION:2.0
PRODID:-//Vetenskapskarnevalen //NONSGML Events //EN
CALSCALE:GREGORIAN
X-WR-CALNAME:Vetenskapskarnevalen
BEGIN:VEVENT
CREATED:20251013T050038Z
UID:5564
DTEND;VALUE=DATE:20251107T132000Z
DTSTART;VALUE=DATE:20251107T122000Z
DTSTAMP:20260420T090402Z
LOCATION:Köpcentrum Rewell
DESCRIPTION:<span data-sheets-root="1">I presentationen förklarar Johan Westö grundkoncepten och sätter in AI-agenter i ett historiskt sammanhang. Vi tittar på hur de kan påverka vårt arbete och ställer den avgörande frågan: är de bara nästa steg i en lång rad innovationer, eller markerar de början på något helt nytt?</span>
SUMMARY:Lär dig förstå AI-agenter – steg för steg
ORGANIZER:Vetenskapskarnevalen
URL;VALUE=URI:https://vetenskapskarnevalen.fi/fi/programs/lar-dig-forsta-ai-agenter-steg-for-steg/
TRANSP:OPAQUE
BEGIN:VALARM
ACTION:DISPLAY
TRIGGER;VALUE=DATE-TIME:20251107T132000Z
DESCRIPTION:Reminder for Lär dig förstå AI-agenter – steg för steg
END:VALARM
END:VEVENT
END:VCALENDAR
	