BEGIN:VCALENDAR
VERSION:2.0
PRODID:-//Vetenskapskarnevalen //NONSGML Events //EN
CALSCALE:GREGORIAN
X-WR-CALNAME:Vetenskapskarnevalen
BEGIN:VEVENT
CREATED:20251013T050035Z
UID:5574
DTEND;VALUE=DATE:20251108T093000Z
DTSTART;VALUE=DATE:20251108T083000Z
DTSTAMP:20260420T083740Z
LOCATION:Vasa stadshus
DESCRIPTION:<span data-sheets-root="1">Hur känner vi kring vaggvisor och gonattsånger? Vilka minnen väcker bandomens visor, vilka sjunger vi för barnen i dag? Forskaren Blanka Henriksson föreläser och folkmusikern Jacob Sundström uppträder med visor.</span>
SUMMARY:Vaggvisor, ett kulturarv i vardagen
ORGANIZER:Vetenskapskarnevalen
URL;VALUE=URI:https://vetenskapskarnevalen.fi/fi/programs/vaggvisor-ett-kulturarv-i-vardagen/
TRANSP:OPAQUE
BEGIN:VALARM
ACTION:DISPLAY
TRIGGER;VALUE=DATE-TIME:20251108T093000Z
DESCRIPTION:Reminder for Vaggvisor\, ett kulturarv i vardagen
END:VALARM
END:VEVENT
END:VCALENDAR
	