BEGIN:VCALENDAR
VERSION:2.0
PRODID:-//Vetenskapskarnevalen //NONSGML Events //EN
CALSCALE:GREGORIAN
X-WR-CALNAME:Vetenskapskarnevalen
BEGIN:VEVENT
CREATED:20251013T050028Z
UID:5582
DTEND;VALUE=DATE:20251107T155000Z
DTSTART;VALUE=DATE:20251107T145000Z
DTSTAMP:20260420T124804Z
LOCATION:Köpcentrum Rewell
DESCRIPTION:<span data-sheets-root="1">Vad händer när studerande från olika länder och kulturer möts i slöjdkurser? Hur kan slöjd bidra till att skapa och främja interaktion? Slöjd i olika former kännetecknas av växelverkan mellan människor, material och redskap och innefattar varierande kommunikations- och verksamhetsformer. Kom med och se hur slöjden kan främja kontakten mellan finländska och utländska studerande! </span>
SUMMARY:What are you doing? Om slöjdens förenande kraft
ORGANIZER:Vetenskapskarnevalen
URL;VALUE=URI:https://vetenskapskarnevalen.fi/fi/programs/what-are-you-doing-slojdens-mojlighet-att-framja-interaktionen-mellan-internationella-och-finlandska-studeranden/
TRANSP:OPAQUE
BEGIN:VALARM
ACTION:DISPLAY
TRIGGER;VALUE=DATE-TIME:20251107T155000Z
DESCRIPTION:Reminder for What are you doing? Om slöjdens förenande kraft
END:VALARM
END:VEVENT
END:VCALENDAR
	