BEGIN:VCALENDAR
VERSION:2.0
PRODID:-//Vetenskapskarnevalen //NONSGML Events //EN
CALSCALE:GREGORIAN
X-WR-CALNAME:Vetenskapskarnevalen
BEGIN:VEVENT
CREATED:20251013T050016Z
UID:5592
DTEND;VALUE=DATE:20251108T102000Z
DTSTART;VALUE=DATE:20251108T092000Z
DTSTAMP:20260420T084858Z
LOCATION:Vasa stadshus
DESCRIPTION:<span data-sheets-root="1">Hur kan turismen gynna både lokalbefolkning och besökare? Regenerativ landsbygdsturism i Österbotten syftar till att stärka kultur, natur och småföretag genom lokala initiativ och samarbeten. Genom att arbeta regenerativt ligger fokus på att skapa positiv inverkan på miljön, ekonomin och samhället, snarare än att minimera den negativa påverkan. Detta gynnar både lokalbefolkning och besökare och är nästa steg för turismnäringen på landsbygden.</span>
SUMMARY:Turism som gör gott – en ny modell för landsbygden
ORGANIZER:Vetenskapskarnevalen
URL;VALUE=URI:https://vetenskapskarnevalen.fi/fi/programs/turism-som-gor-gott-en-ny-modell-for-landsbygden/
TRANSP:OPAQUE
BEGIN:VALARM
ACTION:DISPLAY
TRIGGER;VALUE=DATE-TIME:20251108T102000Z
DESCRIPTION:Reminder for Turism som gör gott – en ny modell för landsbygden
END:VALARM
END:VEVENT
END:VCALENDAR
	