BEGIN:VCALENDAR
VERSION:2.0
PRODID:-//Vetenskapskarnevalen //NONSGML Events //EN
CALSCALE:GREGORIAN
X-WR-CALNAME:Vetenskapskarnevalen
BEGIN:VEVENT
CREATED:20210907T114246Z
UID:1375
DTEND;VALUE=DATE:19700101T030000Z
DTSTART;VALUE=DATE:20260420T120511Z
DTSTAMP:20260420T090511Z
LOCATION:
DESCRIPTION:
SUMMARY:Björk, Peter
ORGANIZER:Vetenskapskarnevalen
URL;VALUE=URI:https://vetenskapskarnevalen.fi/sv/medverkare/bjork-peter/
TRANSP:OPAQUE
BEGIN:VALARM
ACTION:DISPLAY
TRIGGER;VALUE=DATE-TIME:19700101T030000Z
DESCRIPTION:Reminder for Björk\, Peter
END:VALARM
END:VEVENT
END:VCALENDAR
	