BEGIN:VCALENDAR
VERSION:2.0
PRODID:-//Vetenskapskarnevalen //NONSGML Events //EN
CALSCALE:GREGORIAN
X-WR-CALNAME:Vetenskapskarnevalen
BEGIN:VEVENT
CREATED:20210907T125236Z
UID:1379
DTEND;VALUE=DATE:19700101T030000Z
DTSTART;VALUE=DATE:20260420T121144Z
DTSTAMP:20260420T091144Z
LOCATION:
DESCRIPTION:
SUMMARY:Ravald, Annika
ORGANIZER:Vetenskapskarnevalen
URL;VALUE=URI:https://vetenskapskarnevalen.fi/sv/medverkare/ravald-annika/
TRANSP:OPAQUE
BEGIN:VALARM
ACTION:DISPLAY
TRIGGER;VALUE=DATE-TIME:19700101T030000Z
DESCRIPTION:Reminder for Ravald\, Annika
END:VALARM
END:VEVENT
END:VCALENDAR
	