BEGIN:VCALENDAR
VERSION:2.0
PRODID:-//Vetenskapskarnevalen //NONSGML Events //EN
CALSCALE:GREGORIAN
X-WR-CALNAME:Vetenskapskarnevalen
BEGIN:VEVENT
CREATED:20210907T125357Z
UID:1382
DTEND;VALUE=DATE:19700101T030000Z
DTSTART;VALUE=DATE:20260420T121539Z
DTSTAMP:20260420T091539Z
LOCATION:
DESCRIPTION:
SUMMARY:Löfvik, Kaj
ORGANIZER:Vetenskapskarnevalen
URL;VALUE=URI:https://vetenskapskarnevalen.fi/sv/medverkare/lofvik-kaj/
TRANSP:OPAQUE
BEGIN:VALARM
ACTION:DISPLAY
TRIGGER;VALUE=DATE-TIME:19700101T030000Z
DESCRIPTION:Reminder for Löfvik\, Kaj
END:VALARM
END:VEVENT
END:VCALENDAR
	