BEGIN:VCALENDAR
VERSION:2.0
PRODID:-//Vetenskapskarnevalen //NONSGML Events //EN
CALSCALE:GREGORIAN
X-WR-CALNAME:Vetenskapskarnevalen
BEGIN:VEVENT
CREATED:20210907T125416Z
UID:1383
DTEND;VALUE=DATE:19700101T030000Z
DTSTART;VALUE=DATE:20260420T121155Z
DTSTAMP:20260420T091155Z
LOCATION:
DESCRIPTION:
SUMMARY:Österåker, Maria
ORGANIZER:Vetenskapskarnevalen
URL;VALUE=URI:https://vetenskapskarnevalen.fi/sv/medverkare/osteraker-maria/
TRANSP:OPAQUE
BEGIN:VALARM
ACTION:DISPLAY
TRIGGER;VALUE=DATE-TIME:19700101T030000Z
DESCRIPTION:Reminder for Österåker\, Maria
END:VALARM
END:VEVENT
END:VCALENDAR
	