BEGIN:VCALENDAR
VERSION:2.0
PRODID:-//Vetenskapskarnevalen //NONSGML Events //EN
CALSCALE:GREGORIAN
X-WR-CALNAME:Vetenskapskarnevalen
BEGIN:VEVENT
CREATED:20210907T132033Z
UID:1392
DTEND;VALUE=DATE:19700101T030000Z
DTSTART;VALUE=DATE:20260420T095739Z
DTSTAMP:20260420T065739Z
LOCATION:
DESCRIPTION:
SUMMARY:Näsman, Minna
ORGANIZER:Vetenskapskarnevalen
URL;VALUE=URI:https://vetenskapskarnevalen.fi/sv/medverkare/nasman-minna/
TRANSP:OPAQUE
BEGIN:VALARM
ACTION:DISPLAY
TRIGGER;VALUE=DATE-TIME:19700101T030000Z
DESCRIPTION:Reminder for Näsman\, Minna
END:VALARM
END:VEVENT
END:VCALENDAR
	