BEGIN:VCALENDAR
VERSION:2.0
PRODID:-//Vetenskapskarnevalen //NONSGML Events //EN
CALSCALE:GREGORIAN
X-WR-CALNAME:Vetenskapskarnevalen
BEGIN:VEVENT
CREATED:20210907T133606Z
UID:1395
DTEND;VALUE=DATE:19700101T030000Z
DTSTART;VALUE=DATE:20260420T095914Z
DTSTAMP:20260420T065914Z
LOCATION:
DESCRIPTION:
SUMMARY:Kekkonen, Jukka
ORGANIZER:Vetenskapskarnevalen
URL;VALUE=URI:https://vetenskapskarnevalen.fi/sv/medverkare/kekkonen-jukka/
TRANSP:OPAQUE
BEGIN:VALARM
ACTION:DISPLAY
TRIGGER;VALUE=DATE-TIME:19700101T030000Z
DESCRIPTION:Reminder for Kekkonen\, Jukka
END:VALARM
END:VEVENT
END:VCALENDAR
	